BEGIN:VCALENDAR
VERSION:2.0
PRODID:-//EGEA - European Geography Association for students &amp; young geographers - ECPv6.15.20//NONSGML v1.0//EN
CALSCALE:GREGORIAN
METHOD:PUBLISH
X-ORIGINAL-URL:https://egea.eu
X-WR-CALDESC:Events for EGEA - European Geography Association for students &amp; young geographers
REFRESH-INTERVAL;VALUE=DURATION:PT1H
X-Robots-Tag:noindex
X-PUBLISHED-TTL:PT1H
BEGIN:VTIMEZONE
TZID:Europe/Prague
BEGIN:DAYLIGHT
TZOFFSETFROM:+0100
TZOFFSETTO:+0200
TZNAME:CEST
DTSTART:20220327T010000
END:DAYLIGHT
BEGIN:STANDARD
TZOFFSETFROM:+0200
TZOFFSETTO:+0100
TZNAME:CET
DTSTART:20221030T010000
END:STANDARD
BEGIN:DAYLIGHT
TZOFFSETFROM:+0100
TZOFFSETTO:+0200
TZNAME:CEST
DTSTART:20230326T010000
END:DAYLIGHT
BEGIN:STANDARD
TZOFFSETFROM:+0200
TZOFFSETTO:+0100
TZNAME:CET
DTSTART:20231029T010000
END:STANDARD
BEGIN:DAYLIGHT
TZOFFSETFROM:+0100
TZOFFSETTO:+0200
TZNAME:CEST
DTSTART:20240331T010000
END:DAYLIGHT
BEGIN:STANDARD
TZOFFSETFROM:+0200
TZOFFSETTO:+0100
TZNAME:CET
DTSTART:20241027T010000
END:STANDARD
END:VTIMEZONE
BEGIN:VEVENT
DTSTART;TZID=Europe/Prague:20231129T080000
DTEND;TZID=Europe/Prague:20231203T170000
DTSTAMP:20260423T151432
CREATED:20231128T145233Z
LAST-MODIFIED:20231128T145235Z
UID:14323-1701244800-1701622800@egea.eu
SUMMARY:EGEA Warsaw welcomes egea groningen
DESCRIPTION:EGEA Warsaw is hosting EGEA Groningen on reexchange!
URL:https://egea.eu/event/2023/11/28/egea-warsaw-welcomes-egea-groningen/
ATTACH;FMTTYPE=image/heic:https://egea.eu/wp-content/uploads/2023/11/IMG_7701.heic
END:VEVENT
BEGIN:VEVENT
DTSTART;TZID=Europe/Prague:20231130T000000
DTEND;TZID=Europe/Prague:20231203T235959
DTSTAMP:20260423T151432
CREATED:20240812T222139Z
LAST-MODIFIED:20240814T132958Z
UID:20779-1701302400-1701647999@egea.eu
SUMMARY:EGEA Zagreb welcomes EGEA Marburg
DESCRIPTION:The long awaited re-exchange with EGEA Marburg finally happened. Our program had activities such as a local city tour and a hike to very windy Sljeme\, which are now staple activities in our exchanges. Alongside those\, we showed our friends from Marburg the crown jewel of Croatia\, Plitvice Lakes National Park\, and one of the most famous museums in Zagreb\, the Museum of Hangovers.
URL:https://egea.eu/event/2024/08/13/egea-zagreb-welcomes-egea-marburg/
LOCATION:Zagreb\, Croatia\, Trg bana Jelačića\, Zagreb\, 10000\, Croatia (Local Name: Hrvatska)
CATEGORIES:Exchanges
END:VEVENT
BEGIN:VEVENT
DTSTART;TZID=Europe/Prague:20231130T140000
DTEND;TZID=Europe/Prague:20231204T160000
DTSTAMP:20260423T151432
CREATED:20230616T073504Z
LAST-MODIFIED:20231205T104405Z
UID:11518-1701352800-1701705600@egea.eu
SUMMARY:Shack'n'Roll 23 #boburg
DESCRIPTION:We’re very happy you’re intrested in joining our Shack’n’Roll organised by EGEA Augsburg and EGEA Bochum. #BOBURG \n\n\n\nWe’ll spend some fun days in a small shack surrounded by the mountains in the south of Germany. While enjoying lovely EGEAns company we’ll drink some hot beverages to heat up after a hike in the mountaineous winter wonderland
URL:https://egea.eu/event/2023/06/16/shack-n-roll-23/
CATEGORIES:Fun events
END:VEVENT
BEGIN:VEVENT
DTSTART;TZID=Europe/Prague:20231202T190000
DTEND;TZID=Europe/Prague:20231203T200000
DTSTAMP:20260423T151432
CREATED:20231129T160322Z
LAST-MODIFIED:20231202T145140Z
UID:14378-1701543600-1701633600@egea.eu
SUMMARY:Europe at war
DESCRIPTION:Event aims to show an impact of Russia`s war against Ukraine on people`s lives and cities on the example of Lviv\, which is a very important logistical hub for aid and refugees. \n\n\n\n \n\n\n\n\n\n\n\n2nd December 2023\n\n\n\nLive experience during occupation and volunteer work in Kherson \n\n\n\nEgea support ukraine \n\n\n\n\n\nOn the first day\, our speaker Ilya Muzyka\, who survived the occupation in Kherson and is the CP 1 of EGEA Kherson\, will tell about all the horrors of the war that he experienced and continues to experience. Head of EGEA_support_UA Ira Tymoshenko is going to tell how can you help us. \n\n\n\n\n\n\n\n\n\n\n\n\n\n\n\n \n\n\n\n\n\n\n\n\n\n\n\n3rd December 2023\n\n\n\nChallenges and activities during the war: Case of mi city institute (lviv city council) \n\n\n\nThe next day is devoted to the urban crisis caused by the war where our Alumniy and representative of the City institute of Lviv Yuriy Polyanskyi will talk about the impact of internal migration on the life of cities in general and Lviv in particular \n\n\n\n\n\nLink: https://meet.google.com/tfu-vqcb-pec
URL:https://egea.eu/event/2023/11/29/europe-at-war-2/
LOCATION:Online event
CATEGORIES:Online events
ORGANIZER;CN="EGEA Lviv":MAILTO:lviv@egea.eu
END:VEVENT
BEGIN:VEVENT
DTSTART;TZID=Europe/Prague:20231207T000000
DTEND;TZID=Europe/Prague:20231210T235959
DTSTAMP:20260423T151432
CREATED:20231127T181851Z
LAST-MODIFIED:20231127T182303Z
UID:14275-1701907200-1702252799@egea.eu
SUMMARY:EGEA Berlin welcomes EGEA Warsaw
DESCRIPTION:EGEA Warsaw and Berlin are hosting a Newbie Exchange! Berlin is looking forward to welcoming the newbies from EGEA Warsaw <3
URL:https://egea.eu/event/2023/11/27/egea-berlin-welcomes-egea-warsaw/
CATEGORIES:Exchanges
END:VEVENT
BEGIN:VEVENT
DTSTART;TZID=Europe/Prague:20231208T080000
DTEND;TZID=Europe/Prague:20231210T170000
DTSTAMP:20260423T151432
CREATED:20240603T200442Z
LAST-MODIFIED:20240603T200442Z
UID:19288-1702022400-1702227600@egea.eu
SUMMARY:Romanian Freshmen weekend
DESCRIPTION:It’s an extended teambuilding for all the Entities of EGEA Romania. We had organized activities such as a guided tour through the city Sinaia\, a mountain hike and interactive games for everyone to bring us closer
URL:https://egea.eu/event/2024/06/03/romanian-freshmen-weekend/
LOCATION:Bușteni
ORGANIZER;CN="EGEA Bucharest":MAILTO:bucharest@egea.eu
END:VEVENT
BEGIN:VEVENT
DTSTART;TZID=Europe/Prague:20231209T150000
DTEND;TZID=Europe/Prague:20231210T140000
DTSTAMP:20260423T151432
CREATED:20231115T153226Z
LAST-MODIFIED:20231124T154540Z
UID:14088-1702134000-1702216800@egea.eu
SUMMARY:Hannover Christmas Market event
DESCRIPTION:You do not have to pay a participant’s fee\, your only expenses will be foods and drinks during the weekend. \n\n\n\nVisit Hannover’s christmas markets with us! There are several christmas markets all over town for us to visit during the weekend. More information about the program will follow soon. \n\n\n\nEveryone will be hosted by our entity members. We do not have a final amount of places yet but we will try to host as many people as we can! \n\n\n\nIMPORTANT: Due to the event being in Germany\, you need cash to pay for goods at the markets.
URL:https://egea.eu/event/2023/11/15/hannover-christmas-market-event/
END:VEVENT
BEGIN:VEVENT
DTSTART;TZID=Europe/Prague:20231210T113000
DTEND;TZID=Europe/Prague:20231210T183000
DTSTAMP:20260423T151432
CREATED:20231205T104902Z
LAST-MODIFIED:20231205T104905Z
UID:14633-1702207800-1702233000@egea.eu
SUMMARY:Wü in Aux - 1-day-exchange
DESCRIPTION:EGEA Augsburg welcomes EGEA Würzburg for our 1-day-Reexchange. We’ll show them around our famous Christmas Market.
URL:https://egea.eu/event/2023/12/05/wu-in-aux-1-day-exchange/
LOCATION:Augsburg
END:VEVENT
BEGIN:VEVENT
DTSTART;TZID=Europe/Prague:20231212T000000
DTEND;TZID=Europe/Prague:20231214T235959
DTSTAMP:20260423T151432
CREATED:20240812T222449Z
LAST-MODIFIED:20240814T133114Z
UID:20780-1702339200-1702598399@egea.eu
SUMMARY:EGEA Zagreb welcomes EGEA Vilnius
DESCRIPTION:Seeing EGEA Vilnius after such a short time after the original exchange felt like our time together was one long adventure across Europe. Even though the weather in Croatia was not great\, we still gave it our best to show our Lithuanians Zagreb in the best light possible. After showing them Zagreb through a city tour\, we also took them to the nearby picturesque town of Samobor. The Croatian traditions\, food & drink were showcased during the Croatian Fair which was great fun and an amazing chance to introduce our country to our beautiful guests.
URL:https://egea.eu/event/2024/08/13/egea-zagreb-welcomes-egea-vilnius/
LOCATION:Zagreb\, Croatia\, Trg bana Jelačića\, Zagreb\, 10000\, Croatia (Local Name: Hrvatska)
CATEGORIES:Exchanges
END:VEVENT
BEGIN:VEVENT
DTSTART;TZID=Europe/Prague:20231213T000000
DTEND;TZID=Europe/Prague:20231217T235959
DTSTAMP:20260423T151432
CREATED:20240120T162840Z
LAST-MODIFIED:20240120T162843Z
UID:15563-1702425600-1702857599@egea.eu
SUMMARY:EGEA Berlin welcomes EGEA Zagreb
DESCRIPTION:EGEA Zagreb is coming to Berlin with 9 people for an amazing weekend!
URL:https://egea.eu/event/2024/01/20/egea-berlin-welcomes-egea-zagreb/
END:VEVENT
BEGIN:VEVENT
DTSTART;TZID=Europe/Prague:20231214T140000
DTEND;TZID=Europe/Prague:20231217T140000
DTSTAMP:20260423T151432
CREATED:20231012T140000Z
LAST-MODIFIED:20231206T143215Z
UID:12916-1702562400-1702821600@egea.eu
SUMMARY:Christmas market weekend vol. 5.0
DESCRIPTION:You will be hosted by our lovely entity members\, who will provide you with a place to sleep and breakfast. They’ll also lead you to our meeting points. The use of public transport is included in the participant fee. \n\n\n\n\n\nProgramm | Travel Info | What to bring \n\n\n\n\n\n\n\nProgramm | Travel Info | What to bring \n\n\n\nDepending on your arrival\, you are welcome to come to Jena on Thursday evening or Friday morning. Jena is very easy to reach by train. By the way\, regional tickets are also valid for the IC trains on the route Erfurt – Weimar – Jena – Gera. Note that there are two major train stations in Jena “Jena West” and “Jena Paradies”\, which are not directly connected. Depending on the direction you are coming from\, you’ll arrive at one of them. There is also a bus station directly in the center with various Flixbus connections. If you arrive by car\, we will individually discuss in advance where you can park it over the weekend.  \n\n\n\nProgramm | Travel Info | What to bring \n\n\n\n\nWarm and weatherproof clothing and shoes\n\n\n\nSome typical Christmas treats from your region to share at the Christmas cultural fair\n\n\n\nA Christmas Outfit\n\n\n\nAn item you no longer need for the “White elephant gift exchange” – the crazier the better\n\n\n\nChristmas spirit and good vibes\n\n\n\n\n\n\n \n\n\n\nFor more information follow our EGEA Jena Instagram page @egeajena
URL:https://egea.eu/event/2023/10/12/christmas-market-weekend-vol-5-0/
LOCATION:Jena\, Jena\, Germany
CATEGORIES:Cultural events
ORGANIZER;CN="EGEA Jena":MAILTO:jena@egea.eu
END:VEVENT
BEGIN:VEVENT
DTSTART;TZID=Europe/Prague:20231219T160000
DTEND;TZID=Europe/Prague:20231220T150000
DTSTAMP:20260423T151432
CREATED:20231206T213558Z
LAST-MODIFIED:20231206T213600Z
UID:14667-1703001600-1703084400@egea.eu
SUMMARY:Christmas movie night
DESCRIPTION:Together with student council we plan a nice and cozy movie evening. We invite everyone to join the event and offer some sleepover opportunities for ten people. During the next day we can give a nice tour through our beautiful city. \n\n\n\nThere will be no costs besides drinks and food that you want to drink and eat. \n\n\n\n \n\n\n\nPlease message us over via mail or what’s app: goettingen@egea.eu / 015737163858
URL:https://egea.eu/event/2023/12/06/christmas-movie-night/
CATEGORIES:Exchanges,Fun events
END:VEVENT
BEGIN:VEVENT
DTSTART;TZID=Europe/Prague:20231219T200000
DTEND;TZID=Europe/Prague:20231219T233000
DTSTAMP:20260423T151432
CREATED:20231128T105857Z
LAST-MODIFIED:20231128T105859Z
UID:14297-1703016000-1703028600@egea.eu
SUMMARY:Christmas market exchange - Belgium
DESCRIPTION:It’s that time of the year again!Following the christmas spirit\, the 3 Belgian EGEAs come together again for the annual Christmas Market exchange. This time\, we gather in Ghent for some cosy hot drinks\, strolling around the market and getting to know some awesome people.We gather tuesday 19 december around 20:00 at the Stadshal\, but keep in touch to know which train your entities are going to take!See you there!EGEA Brussels\, EGEA Ghent and EGEA Leuven
URL:https://egea.eu/event/2023/11/28/christmas-market-exchange-belgium/
END:VEVENT
END:VCALENDAR