BEGIN:VCALENDAR
VERSION:2.0
PRODID:-//EGEA - European Geography Association for students &amp; young geographers - ECPv6.15.20//NONSGML v1.0//EN
CALSCALE:GREGORIAN
METHOD:PUBLISH
X-WR-CALNAME:EGEA - European Geography Association for students &amp; young geographers
X-ORIGINAL-URL:https://egea.eu
X-WR-CALDESC:Events for EGEA - European Geography Association for students &amp; young geographers
REFRESH-INTERVAL;VALUE=DURATION:PT1H
X-Robots-Tag:noindex
X-PUBLISHED-TTL:PT1H
BEGIN:VTIMEZONE
TZID:Europe/Prague
BEGIN:DAYLIGHT
TZOFFSETFROM:+0100
TZOFFSETTO:+0200
TZNAME:CEST
DTSTART:20220327T010000
END:DAYLIGHT
BEGIN:STANDARD
TZOFFSETFROM:+0200
TZOFFSETTO:+0100
TZNAME:CET
DTSTART:20221030T010000
END:STANDARD
BEGIN:DAYLIGHT
TZOFFSETFROM:+0100
TZOFFSETTO:+0200
TZNAME:CEST
DTSTART:20230326T010000
END:DAYLIGHT
BEGIN:STANDARD
TZOFFSETFROM:+0200
TZOFFSETTO:+0100
TZNAME:CET
DTSTART:20231029T010000
END:STANDARD
BEGIN:DAYLIGHT
TZOFFSETFROM:+0100
TZOFFSETTO:+0200
TZNAME:CEST
DTSTART:20240331T010000
END:DAYLIGHT
BEGIN:STANDARD
TZOFFSETFROM:+0200
TZOFFSETTO:+0100
TZNAME:CET
DTSTART:20241027T010000
END:STANDARD
END:VTIMEZONE
BEGIN:VEVENT
DTSTART;TZID=Europe/Prague:20230930T083000
DTEND;TZID=Europe/Prague:20231002T220000
DTSTAMP:20260425T151332
CREATED:20231021T093730Z
LAST-MODIFIED:20231021T093732Z
UID:13318-1696062600-1696284000@egea.eu
SUMMARY:EGEA Zurich welcomes egea utrecht
DESCRIPTION:We are happy to see EGEA Utrecht for the first part of the exchange.
URL:https://egea.eu/event/2023/10/21/egea-zurich-welcomes-egea-utrecht/
END:VEVENT
BEGIN:VEVENT
DTSTART;TZID=Europe/Prague:20231006T000000
DTEND;TZID=Europe/Prague:20231008T235959
DTSTAMP:20260425T151332
CREATED:20230820T175227Z
LAST-MODIFIED:20230830T090636Z
UID:12076-1696550400-1696809599@egea.eu
SUMMARY:SUOMIWEEKEND 2023
DESCRIPTION:SuomiWeekend is a get-together event for the members of Finnish EGEA entities\, this year hosted by EGEA Turku. This event is perfect opportynity for newbies\, oldies and everyone in between.  \n\n\n\n\n\n\n\n\nFinnish regional night combines traditional “cultural fair” with finnish regions. Bring something to the table (food\, drinks etc.) from your hometown/region.  \n\n\n\nNature excursion and sauna will take place in the Archipelago of Turku.  \n\n\n\nVoluntary leisure activity is for everyone wishing to stay in Turku a bit (2-3h) longer. \n\n\n\n\n\n\n\n\nWhere?\n\n\n\n\n\n\n\n\n\n\n\nWho can Join?\n\n\n\nMembers of EGEA Helsinki\, Oulu\, Joensuu and Turku. If you are not a member yet\, get in touch with your local association.  \n\n\n\n\n\n\n\nAccomondation\n\n\n\nWith the members of EGEA Turku – you will be taken care with our cozy sofas\, mattresses and beds. \n\n\n\n\n\n\n\n\n\n\n\n\n\n\n\nRegistration\n\n\n\nHere now: https://forms.gle/Q2oRbN6mEmYEf68s6: (open until 6.9. at 23.59)
URL:https://egea.eu/event/2023/08/20/suomiweekend-2/
CATEGORIES:Cultural events
END:VEVENT
BEGIN:VEVENT
DTSTART;TZID=Europe/Prague:20231006T000000
DTEND;TZID=Europe/Prague:20231008T235959
DTSTAMP:20260425T151332
CREATED:20231029T072809Z
LAST-MODIFIED:20231101T095507Z
UID:13461-1696550400-1696809599@egea.eu
SUMMARY:EGEA Hannover welcomes EGEA Bochum
DESCRIPTION:
URL:https://egea.eu/event/2023/10/29/egea-hannover-welcomes-egea-bochum/
END:VEVENT
BEGIN:VEVENT
DTSTART;TZID=Europe/Prague:20231013T000000
DTEND;TZID=Europe/Prague:20231015T235959
DTSTAMP:20260425T151332
CREATED:20231030T132656Z
LAST-MODIFIED:20231030T132944Z
UID:13517-1697155200-1697414399@egea.eu
SUMMARY:Züriburg Part II: EGEA Augsburg welcomes EGEA Zürich
DESCRIPTION:Happily looking forward to spending a great weekend with EGEA Zurich during this Re-Exchange in Augsburg!
URL:https://egea.eu/event/2023/10/30/egea-augsburg-welcomes-egea-zurich/
CATEGORIES:Exchanges
END:VEVENT
BEGIN:VEVENT
DTSTART;TZID=Europe/Prague:20231017T040000
DTEND;TZID=Europe/Prague:20231021T100000
DTSTAMP:20260425T151332
CREATED:20231026T152340Z
LAST-MODIFIED:20231026T152342Z
UID:13420-1697515200-1697882400@egea.eu
SUMMARY:Egea ljubljana welcomes egea olsztyn
DESCRIPTION:First part of the exchange with EGEA Olsztyn.
URL:https://egea.eu/event/2023/10/26/egea-ljubljana-welcomes-egea-olsztyn/
END:VEVENT
BEGIN:VEVENT
DTSTART;TZID=Europe/Prague:20231017T180000
DTEND;TZID=Europe/Prague:20231027T200000
DTSTAMP:20260425T151332
CREATED:20231008T184134Z
LAST-MODIFIED:20231008T184134Z
UID:12903-1697565600-1698436800@egea.eu
SUMMARY:OCTOBER ONLINE TRAINING WEEKS
DESCRIPTION:It is time to boost our soft skills! 🙂 \n\n\n\nWith the 17th of October we are starting into the October Training Weeks. \n\n\n\nThe trainings will be delivered by trainers from EGEA and by trainers from the European Federation of Psychology Students’ Associations (efpsa). \n\n\n\nTogether we have prepared many great soft skill trainings for you: \n\n\n\n\nHandling and resolving conflicts in personal and professional life. By Petra Zoubková ~ 17th at 6 pm\n\n\n\nAll hands on deck – training about teamwork. By Marcelina Francuz & Katja Zemljič ~ 19th at 6 pm\n\n\n\nHow to lead your ship – training about leadership skills. By Marcelina Francuz & Katja Zemljič ~ 21st at 10.30 am\n\n\n\nCommunication – when its is not as easy as planned. By Iulia Maria Buzea ~ 24th at 6.30 pm\n\n\n\nPublic Speaking for beginners. By Liesl van Gool ~ 25th at 6.30 pm\n\n\n\nZero to hero: Upgrade your newbie-strategy in 1\, 2\, 3. – The ins and outs of getting newbies and keeping them motivated. By Rhune van Cleemput ~ 27th at 5 pm\n\n\n\n\nAll times are in CEST. The trainings will be delivered on zoom.  \n\n\n\nTo sign up to the training sessions click here \n\n\n\nWe are looking forward to seeing you in the trainings 🙂 \n\n\n\nBest wishes\, \n\n\n\nEGEA Training Team
URL:https://egea.eu/event/2023/10/08/october-online-training-weeks-2/
END:VEVENT
BEGIN:VEVENT
DTSTART;TZID=Europe/Prague:20231018T000000
DTEND;TZID=Europe/Prague:20231022T235959
DTSTAMP:20260425T151332
CREATED:20231018T075738Z
LAST-MODIFIED:20231018T075740Z
UID:13284-1697587200-1698019199@egea.eu
SUMMARY:EGEA OSTRAVA welcomes EGEA WARSAW
DESCRIPTION:We are pleased to announce that from Wednesday 18 October to Sunday 22 October we will be hosting our dear friends from EGEA Warsaw in Ostrava.This is the first part of our exchange.
URL:https://egea.eu/event/2023/10/18/egea-ostrava-welcomes-egea-warsaw/
ATTACH;FMTTYPE=image/jpeg:https://egea.eu/wp-content/uploads/2023/10/vyhlidkova-vez-nove-radnice.jpg
ORGANIZER;CN="Egea Ostrava":MAILTO:ostrava@egea.eu
END:VEVENT
BEGIN:VEVENT
DTSTART;TZID=Europe/Prague:20231019T000000
DTEND;TZID=Europe/Prague:20231022T235959
DTSTAMP:20260425T151332
CREATED:20240812T221653Z
LAST-MODIFIED:20240814T132109Z
UID:20777-1697673600-1698019199@egea.eu
SUMMARY:EGEA Zagreb welcomes EGEA Cluj-Napoca
DESCRIPTION:During October\, EGEA Zagreb hosted the second part of the exchange with EGEA Cluj-Napoca. Our members prepared a wonderful program\, which consisted of a traditional Zagreb city tour and hiking to the nearby mountaintop of Sljeme. Alongside that\, our Romanians also had the opportunity to visit the region of Međimurje and the nearby city of Varaždin.
URL:https://egea.eu/event/2024/08/13/egea-zagreb-welcomes-egea-cluj-napoca/
LOCATION:Zagreb\, Croatia\, Trg bana Jelačića\, Zagreb\, 10000\, Croatia (Local Name: Hrvatska)
CATEGORIES:Exchanges
END:VEVENT
BEGIN:VEVENT
DTSTART;TZID=Europe/Prague:20231025T000000
DTEND;TZID=Europe/Prague:20231029T235959
DTSTAMP:20260425T151332
CREATED:20230813T060000Z
LAST-MODIFIED:20230909T172821Z
UID:11941-1698192000-1698623999@egea.eu
SUMMARY:BALKANIJADA 13.0
DESCRIPTION:Balkanijada is a congress organized by the entities in the former Yugoslavia. EGEA Banja Luka organizes this year’s Balkanijada on the topic Protection of Ramsar sites in the Balkans. \n\n\n\nWHERE?\n\n\n\n\n\nPROGRAM\n\n\n\n\n\n\n\nWHO CAN COME TO THIS CONGRESS?\n\n\n\nMembers of the entity: Banja Luka\, Beograd\, Ljubljana\, Maribor\, Mostar\, Niksic\, Novi Sad\, Skoplje\, Zadar\, Zagreb. \n\n\n\nACCOMMODATION\n\n\n\n\n\n\n\n\n\n\n\n\n\n\n\n\n\n\n\n\n\n\n\n\n\n\n\n\n\n\n\n\n\n\n\n\n\n\n\n\n\n\n\n\n\n\n\n\n\n\n\n\n\n\n\n\n\n\n\n\n\n\n\n\n\n\n\n\n\n\n\n\n\n\n\n\n\nORGA TEAM\n\n\n\nNikolina Đukić \n\n\n\nMarko Kalaba  \n\n\n\nBojan Garić \n\n\n\nDragica Delić \n\n\n\n\n\n\n\nNumber of participants: 35
URL:https://egea.eu/event/2023/08/13/balkanijada-13-0/
LOCATION:BARDACA\, Srbac\, Bosnia and Herzegovina
CATEGORIES:Cultural events,Fun events,Scientific events
END:VEVENT
BEGIN:VEVENT
DTSTART;TZID=Europe/Prague:20231027T000000
DTEND;TZID=Europe/Prague:20231031T235959
DTSTAMP:20260425T151332
CREATED:20231018T080531Z
LAST-MODIFIED:20231018T080533Z
UID:13287-1698364800-1698796799@egea.eu
SUMMARY:EGEA OSTRAVA welcomes EGEA HELSINKI
DESCRIPTION:We are pleased to announce that from Friday 27 October to Tuesday 31 October we will be hosting our dear friends from EGEA Helsinki in Ostrava.This is a second part of our exchange.
URL:https://egea.eu/event/2023/10/18/egea-ostrava-welcomes-egea-helsinki/
ATTACH;FMTTYPE=image/jpeg:https://egea.eu/wp-content/uploads/2023/10/20230329_174720-scaled.jpg
ORGANIZER;CN="Egea Ostrava":MAILTO:ostrava@egea.eu
END:VEVENT
BEGIN:VEVENT
DTSTART;TZID=Europe/Prague:20231027T080000
DTEND;TZID=Europe/Prague:20231101T170000
DTSTAMP:20260425T151332
CREATED:20221010T144947Z
LAST-MODIFIED:20240209T172003Z
UID:7571-1698393600-1698858000@egea.eu
SUMMARY:EGEA Marburg welcomes EGEA Zagreb
DESCRIPTION:
URL:https://egea.eu/event/2022/10/10/egea-marburg-welcomes-egea-zagreb/
LOCATION:Marburg\, Deutschhausstraße 10\, Marburg\, 35037\, Germany
CATEGORIES:Exchanges
END:VEVENT
BEGIN:VEVENT
DTSTART;TZID=Europe/Prague:20231028T000000
DTEND;TZID=Europe/Prague:20231028T235959
DTSTAMP:20260425T151332
CREATED:20231027T170459Z
LAST-MODIFIED:20231027T170501Z
UID:13448-1698451200-1698537599@egea.eu
SUMMARY:EGEA Wuerzburg meets Egea Augsburg
DESCRIPTION:One day exchange with EGEA Augsburg in our lovely hometown of Wuerzburg!
URL:https://egea.eu/event/2023/10/27/egea-wuerzburg-meets-egea-augsburg/
END:VEVENT
BEGIN:VEVENT
DTSTART;TZID=Europe/Prague:20231028T080000
DTEND;TZID=Europe/Prague:20231029T130000
DTSTAMP:20260425T151332
CREATED:20231027T172222Z
LAST-MODIFIED:20231027T172224Z
UID:13450-1698480000-1698584400@egea.eu
SUMMARY:EGEA Würzburg welcomes egea augsburg
DESCRIPTION:
URL:https://egea.eu/event/2023/10/27/egea-wurzburg-welcomes-egea-augsburg/
END:VEVENT
END:VCALENDAR