BEGIN:VCALENDAR
VERSION:2.0
PRODID:-//EGEA - European Geography Association for students &amp; young geographers - ECPv6.15.20//NONSGML v1.0//EN
CALSCALE:GREGORIAN
METHOD:PUBLISH
X-ORIGINAL-URL:https://egea.eu
X-WR-CALDESC:Events for EGEA - European Geography Association for students &amp; young geographers
REFRESH-INTERVAL;VALUE=DURATION:PT1H
X-Robots-Tag:noindex
X-PUBLISHED-TTL:PT1H
BEGIN:VTIMEZONE
TZID:Europe/Prague
BEGIN:DAYLIGHT
TZOFFSETFROM:+0100
TZOFFSETTO:+0200
TZNAME:CEST
DTSTART:20220327T010000
END:DAYLIGHT
BEGIN:STANDARD
TZOFFSETFROM:+0200
TZOFFSETTO:+0100
TZNAME:CET
DTSTART:20221030T010000
END:STANDARD
BEGIN:DAYLIGHT
TZOFFSETFROM:+0100
TZOFFSETTO:+0200
TZNAME:CEST
DTSTART:20230326T010000
END:DAYLIGHT
BEGIN:STANDARD
TZOFFSETFROM:+0200
TZOFFSETTO:+0100
TZNAME:CET
DTSTART:20231029T010000
END:STANDARD
BEGIN:DAYLIGHT
TZOFFSETFROM:+0100
TZOFFSETTO:+0200
TZNAME:CEST
DTSTART:20240331T010000
END:DAYLIGHT
BEGIN:STANDARD
TZOFFSETFROM:+0200
TZOFFSETTO:+0100
TZNAME:CET
DTSTART:20241027T010000
END:STANDARD
END:VTIMEZONE
BEGIN:VEVENT
DTSTART;TZID=Europe/Prague:20230904T140000
DTEND;TZID=Europe/Prague:20230909T100000
DTSTAMP:20260425T164759
CREATED:20230223T201736Z
LAST-MODIFIED:20230830T114314Z
UID:9974-1693836000-1694253600@egea.eu
SUMMARY:ANNUAL CONGRESS 2023
DESCRIPTION:We welcome you to the Annual Congress 2023 at Attersee\, Austria\, between 4th and 9th September 2023. We will provide you with a variety of workshops\, excursions and networking events where you get the chance to meet and exchange ideas about the topic: “Water in a Changing Europe: an SDG Perspective” \n\n\n\nOur topic:The 2030 Agenda for Sustainable Development centers around what United Nations member states can do to look after people and the planet. Its 17 Sustainable Development Goals (SDGs) serve as a call to action for countries in a global partnership.  \n\n\n\nWater is omnipresent in our lives and therefore also represented in several SDGs. In the context of a changing Europe\, we would like to explore the connection of water with numerous topics related to the economy\, climate change and governance. Our workshops will aim on the following SDGs: \n\n\n\n\n\n\n\nProgram(please note that the program can be changed until the congress) \n\n\n\n\n\n\n\nThe Orga team \n\n\n\n\n\nOur Sponsors \n\n\nhttps://attersee-attergau.salzkammergut.at/https://geographie-dvag.de/regionalforum-schwaben/https://www.uni-augsburg.de/de/fakultaet/fai/geo/https://www.biomichl.de/https://blpgeo.at/https://wassersystem-augsburg.de/dehttps://www.zukunftswerk.org/https://www.conterra.de/https://ib-sendl.de/
URL:https://egea.eu/event/2023/02/23/9974/
LOCATION:Europacamp\, Franz von Schönthan Allee 42\, Weißenbach/Attersee\, Austria
CATEGORIES:Official events
ATTACH;FMTTYPE=image/png:https://egea.eu/wp-content/uploads/2023/04/application-ppp-1-1.png
END:VEVENT
BEGIN:VEVENT
DTSTART;TZID=Europe/Prague:20230912T080000
DTEND;TZID=Europe/Prague:20230916T120000
DTSTAMP:20260425T164759
CREATED:20230820T160352Z
LAST-MODIFIED:20230820T160354Z
UID:12065-1694505600-1694865600@egea.eu
SUMMARY:EGEA Turku welcomes EGEA Zürich
DESCRIPTION:Four days of exploring Turku and it’s surroundings. We will enjoy the views of the Archipelago and\, of course\, warm up in the sauna together with EGEA Hannover! \n\n\n\nWelcome EGEA Zürich <3
URL:https://egea.eu/event/2023/08/20/egea-turku-welcomes-egea-zurich/
END:VEVENT
BEGIN:VEVENT
DTSTART;TZID=Europe/Prague:20230915T080000
DTEND;TZID=Europe/Prague:20230922T170000
DTSTAMP:20260425T164759
CREATED:20230820T161246Z
LAST-MODIFIED:20230820T161248Z
UID:12068-1694764800-1695402000@egea.eu
SUMMARY:EGEA Turku welcomes EGEA Hannover
DESCRIPTION:During the week we will explore Turku – known for it’s student culture. We will also enjoy the Finnish nature and the sauna at the Baltic Sea. In addition\, EGEA Hannover is lucky enough to participate our town’s birthday celebrations.. 😉
URL:https://egea.eu/event/2023/08/20/egea-turku-welcomes-egea-hannover/
END:VEVENT
BEGIN:VEVENT
DTSTART;TZID=Europe/Prague:20230922T080000
DTEND;TZID=Europe/Prague:20230927T170000
DTSTAMP:20260425T164759
CREATED:20240321T095047Z
LAST-MODIFIED:20240321T095050Z
UID:16486-1695369600-1695834000@egea.eu
SUMMARY:EGEA LYON welcomes egea warsaw
DESCRIPTION:
URL:https://egea.eu/event/2024/03/21/egea-lyon-welcomes-egea-warsaw/
ORGANIZER;CN="EGEA Lyon":MAILTO:lyon@egea.eu
END:VEVENT
BEGIN:VEVENT
DTSTART;TZID=Europe/Prague:20230924T120000
DTEND;TZID=Europe/Prague:20230928T210000
DTSTAMP:20260425T164759
CREATED:20230926T235912Z
LAST-MODIFIED:20230927T000215Z
UID:12799-1695556800-1695934800@egea.eu
SUMMARY:EGEA SKOPJE WELCOMES EGEA MARBURG
DESCRIPTION:Reexchange between EGEA Skopje & EGEA Marburg in Macedonia.
URL:https://egea.eu/event/2023/09/27/egea-skopje-welcomes-egea-marburg/
CATEGORIES:Exchanges
ATTACH;FMTTYPE=image/jpeg:https://egea.eu/wp-content/uploads/2023/09/WhatsApp-Bild-2023-09-27-um-00.06.48-edited.jpg
END:VEVENT
BEGIN:VEVENT
DTSTART;TZID=Europe/Prague:20230930T083000
DTEND;TZID=Europe/Prague:20231002T220000
DTSTAMP:20260425T164759
CREATED:20231021T093730Z
LAST-MODIFIED:20231021T093732Z
UID:13318-1696062600-1696284000@egea.eu
SUMMARY:EGEA Zurich welcomes egea utrecht
DESCRIPTION:We are happy to see EGEA Utrecht for the first part of the exchange.
URL:https://egea.eu/event/2023/10/21/egea-zurich-welcomes-egea-utrecht/
END:VEVENT
END:VCALENDAR