BEGIN:VCALENDAR
VERSION:2.0
PRODID:-//EGEA - European Geography Association for students &amp; young geographers - ECPv6.15.20//NONSGML v1.0//EN
CALSCALE:GREGORIAN
METHOD:PUBLISH
X-WR-CALNAME:EGEA - European Geography Association for students &amp; young geographers
X-ORIGINAL-URL:https://egea.eu
X-WR-CALDESC:Events for EGEA - European Geography Association for students &amp; young geographers
REFRESH-INTERVAL;VALUE=DURATION:PT1H
X-Robots-Tag:noindex
X-PUBLISHED-TTL:PT1H
BEGIN:VTIMEZONE
TZID:Europe/Prague
BEGIN:DAYLIGHT
TZOFFSETFROM:+0100
TZOFFSETTO:+0200
TZNAME:CEST
DTSTART:20210328T010000
END:DAYLIGHT
BEGIN:STANDARD
TZOFFSETFROM:+0200
TZOFFSETTO:+0100
TZNAME:CET
DTSTART:20211031T010000
END:STANDARD
BEGIN:DAYLIGHT
TZOFFSETFROM:+0100
TZOFFSETTO:+0200
TZNAME:CEST
DTSTART:20220327T010000
END:DAYLIGHT
BEGIN:STANDARD
TZOFFSETFROM:+0200
TZOFFSETTO:+0100
TZNAME:CET
DTSTART:20221030T010000
END:STANDARD
BEGIN:DAYLIGHT
TZOFFSETFROM:+0100
TZOFFSETTO:+0200
TZNAME:CEST
DTSTART:20230326T010000
END:DAYLIGHT
BEGIN:STANDARD
TZOFFSETFROM:+0200
TZOFFSETTO:+0100
TZNAME:CET
DTSTART:20231029T010000
END:STANDARD
END:VTIMEZONE
BEGIN:VTIMEZONE
TZID:Europe/Tallinn
BEGIN:DAYLIGHT
TZOFFSETFROM:+0200
TZOFFSETTO:+0300
TZNAME:EEST
DTSTART:20210328T010000
END:DAYLIGHT
BEGIN:STANDARD
TZOFFSETFROM:+0300
TZOFFSETTO:+0200
TZNAME:EET
DTSTART:20211031T010000
END:STANDARD
BEGIN:DAYLIGHT
TZOFFSETFROM:+0200
TZOFFSETTO:+0300
TZNAME:EEST
DTSTART:20220327T010000
END:DAYLIGHT
BEGIN:STANDARD
TZOFFSETFROM:+0300
TZOFFSETTO:+0200
TZNAME:EET
DTSTART:20221030T010000
END:STANDARD
BEGIN:DAYLIGHT
TZOFFSETFROM:+0200
TZOFFSETTO:+0300
TZNAME:EEST
DTSTART:20230326T010000
END:DAYLIGHT
BEGIN:STANDARD
TZOFFSETFROM:+0300
TZOFFSETTO:+0200
TZNAME:EET
DTSTART:20231029T010000
END:STANDARD
END:VTIMEZONE
BEGIN:VTIMEZONE
TZID:Europe/Vienna
BEGIN:DAYLIGHT
TZOFFSETFROM:+0100
TZOFFSETTO:+0200
TZNAME:CEST
DTSTART:20210328T010000
END:DAYLIGHT
BEGIN:STANDARD
TZOFFSETFROM:+0200
TZOFFSETTO:+0100
TZNAME:CET
DTSTART:20211031T010000
END:STANDARD
BEGIN:DAYLIGHT
TZOFFSETFROM:+0100
TZOFFSETTO:+0200
TZNAME:CEST
DTSTART:20220327T010000
END:DAYLIGHT
BEGIN:STANDARD
TZOFFSETFROM:+0200
TZOFFSETTO:+0100
TZNAME:CET
DTSTART:20221030T010000
END:STANDARD
BEGIN:DAYLIGHT
TZOFFSETFROM:+0100
TZOFFSETTO:+0200
TZNAME:CEST
DTSTART:20230326T010000
END:DAYLIGHT
BEGIN:STANDARD
TZOFFSETFROM:+0200
TZOFFSETTO:+0100
TZNAME:CET
DTSTART:20231029T010000
END:STANDARD
END:VTIMEZONE
BEGIN:VEVENT
DTSTART;TZID=Europe/Prague:20221201T050000
DTEND;TZID=Europe/Prague:20221205T003000
DTSTAMP:20260426T054352
CREATED:20221123T163600Z
LAST-MODIFIED:20221123T163850Z
UID:8492-1669870800-1670200200@egea.eu
SUMMARY:EGEA Marburg welcomes EGEA Warsaw
DESCRIPTION:EGEA Marburg welcomes EGEA Warsaw – Exchange
URL:https://egea.eu/event/2022/11/23/egea-marburg-welcomes-egea-warsaw/
LOCATION:Marburg\, Deutschhausstraße 10\, Marburg\, 35037\, Germany
CATEGORIES:Exchanges
ATTACH;FMTTYPE=image/jpeg:https://egea.eu/wp-content/uploads/2022/11/closed-marburg-501521_1280.jpg
END:VEVENT
BEGIN:VEVENT
DTSTART;TZID=Europe/Prague:20221202T080000
DTEND;TZID=Europe/Prague:20221204T120000
DTSTAMP:20260426T054352
CREATED:20221204T164025Z
LAST-MODIFIED:20221204T164657Z
UID:8597-1669968000-1670155200@egea.eu
SUMMARY:egea budapest welcomes egea kraków
DESCRIPTION:EGEA Budapest welcomes EGEA Kraków- exchange
URL:https://egea.eu/event/2022/12/04/egea-budapest-welcomes-egea-krakow/
LOCATION:Budapest\, Budapest\, Hungary
CATEGORIES:Exchanges
ATTACH;FMTTYPE=image/jpeg:https://egea.eu/wp-content/uploads/2022/12/wallpaperflare.com_wallpaper.jpg
ORGANIZER;CN="EGEA Budapest":MAILTO:budapest@egea.eu
END:VEVENT
BEGIN:VEVENT
DTSTART;TZID=Europe/Prague:20221202T080000
DTEND;TZID=Europe/Prague:20221204T170000
DTSTAMP:20260426T054352
CREATED:20221004T165228Z
LAST-MODIFIED:20221128T155932Z
UID:7529-1669968000-1670173200@egea.eu
SUMMARY:Christmas Market Hannover
DESCRIPTION:Visit Hannover’s christmas markets with us! There are several christmas markets all over town for us to visit during the weekend. More information about the program will follow soon. \n\n\n\nYou do not have to pay a participant’s fee\, your only expenses will be foods and drinks during the weekend. \n\n\n\nEveryone will be hosted by our entity members. We do not have a final amount of places yet but we will try to host as many people as we can!
URL:https://egea.eu/event/2022/10/04/christmas-market-hannover/
LOCATION:Hannover\, Hannover\, Germany
ATTACH;FMTTYPE=image/jpeg:https://egea.eu/wp-content/uploads/2022/11/egea-weihnchtsmarkt-22-1.jpg
END:VEVENT
BEGIN:VEVENT
DTSTART;TZID=Europe/Prague:20221202T080000
DTEND;TZID=Europe/Prague:20221204T170000
DTSTAMP:20260426T054352
CREATED:20221202T160000Z
LAST-MODIFIED:20231201T163618Z
UID:14568-1669968000-1670173200@egea.eu
SUMMARY:EGEA Leuven welcomes egea münster
DESCRIPTION:A ‘Turbo’-exchange where our colleagues from Münsters visited Leuven for the weekend!
URL:https://egea.eu/event/2022/12/02/egea-leuven-welcomes-egea-munster-2/
END:VEVENT
BEGIN:VEVENT
DTSTART;TZID=Europe/Tallinn:20221202T120000
DTEND;TZID=Europe/Tallinn:20221204T170000
DTSTAMP:20260426T054352
CREATED:20221103T113108Z
LAST-MODIFIED:20221103T113111Z
UID:7893-1669982400-1670173200@egea.eu
SUMMARY:WINTER OSM
DESCRIPTION:EGEA Tartu is glad to welcome you in (hopefully) snowy Tartu for this year’s Winter OSM. Live event happens from 2nd to 4th of December. The Winter Organisation and Strategy Meeting is really important for EGEA – all the officials and interested EGEAns come together to discuss ideas and develop plans for the future of EGEA and the best part? You can be part of it!  \n\n\n\nIf you have an idea for a topic\, you can submit the idea here <https://forms.gle/Gbp8HKd28Xvh7EMx8>  \n\n\n\nPlease note that some of the sessions might be hybrid sessions. So even if you can’t make it in person\, you can still submit your ideas! \n\n\n\n\n\n\n\n\n\nWhat to expect more?\n\n\n\nEGEA Tartu has welcomed you for many international events this year and next year we are looking forward to NBRC 23 in Estonia. But we have not invited you to our univeristy town Tartu for a long time. We are happy to correct our mistakes. For evenings after the OSM program we have planned for you a sauna and Christmas market visit in Tartu. Of course there will also be a city tour and more fun activities in the evening. We will offer you home made meals made by Agnes and Marie. \n\n\n\n\n\n\n\n\n\n\n\n\n\n\n\n\n\naccommodation\n\n\n\nAccommodation will be in a lovely hostel called Tamme hostel. There will be rooms for 2-4 people in one room.
URL:https://egea.eu/event/2022/11/03/winter-osm/
LOCATION:Department of Geography at University of Tartu\, Vanemuise 46\, Tartu\, 51014\, Estonia
CATEGORIES:Official events
ATTACH;FMTTYPE=image/jpeg:https://egea.eu/wp-content/uploads/2022/11/kaupokalda-com-20211223-162309-DJI-0953-tartu-jouluturgmedium_large.1640380289.jpg
END:VEVENT
BEGIN:VEVENT
DTSTART;TZID=Europe/Prague:20221202T120000
DTEND;TZID=Europe/Prague:20221205T120000
DTSTAMP:20260426T054352
CREATED:20221130T090439Z
LAST-MODIFIED:20221130T090441Z
UID:8553-1669982400-1670241600@egea.eu
SUMMARY:EGEA Greifswald welcomes Egea Freiburg
DESCRIPTION:Egea Greifswald welcomes Egea Freiburg
URL:https://egea.eu/event/2022/11/30/egea-greifswald-welcomes-egea-freiburg/
END:VEVENT
BEGIN:VEVENT
DTSTART;TZID=Europe/Prague:20221203T000000
DTEND;TZID=Europe/Prague:20221203T235959
DTSTAMP:20260426T054352
CREATED:20221201T132855Z
LAST-MODIFIED:20221201T132858Z
UID:8566-1670025600-1670111999@egea.eu
SUMMARY:Augsburg welcomes Bamberg for a Xmas exchange
DESCRIPTION:Egea Augsburg is excited to welcome Egea  Bamberg for a Christmas market exchange on the 3.12.22.
URL:https://egea.eu/event/2022/12/01/augsburg-welcomes-bamberg-for-a-xmas-exchange/
END:VEVENT
BEGIN:VEVENT
DTSTART;TZID=Europe/Prague:20221203T100000
DTEND;TZID=Europe/Prague:20221203T210000
DTSTAMP:20260426T054352
CREATED:20221026T135048Z
LAST-MODIFIED:20221027T151153Z
UID:7654-1670061600-1670101200@egea.eu
SUMMARY:Alumni X-Mas Event
DESCRIPTION:Alumni X-MAS Event\n\n\n\n\n\n\n„.. Last Christmas I gave you my heart\, but the very next day you gave it away…” \n\n\n\nThis song by Wham and the sale of Lebkuchen in every supermarket is a clear sign that Christmas is coming closer. And even if the rainy autumn weather doesn’t quite awaken the Christmas spirit yet\, EGEA Augsburg Alumni would like to invite you! \n\n\n\nWe would like to spend a wonderful\, wintery day with you. On Saturday morning we will go explore some of Augsburg’s sights before we reminisce nostalgically of past times\, while having lunch at the campus (don’t worry\, we won’t revive those mediocre-mensa-memories). In the afternoon we will go ice-skating together; of course\, this activity is only in preparation for the evening. Because\, what better reason is there to drink Glühwein\, if not to warm yourself back up? 😀 \n\n\n\nAugsburg has a range of Christmas markets\, which we will explore\, and get a taste of. This will round off the day\, before we will make ourselves on our way back home. \n\n\n\nPrice\n\n\n\nUnlike for other EGEA events\, there is no fixed price\, as you will pay only for the things you consume or take part in. We have listed costs below\, so you can get an estimate. \n\n\n\n\nIce-Skating Entrance: 4€\nRental of Skates: 3.5€\nDay-Ticket Public Transport: ~4-7€ (depends on group size)\nLunch: 10-15€\n+ Glühwein & other consumables at the Christmas markets\n\n\n\n\nAccommodation\n\n\n\nAs this is a one-day event we have not booked any accommodation\, but if you are arriving from further away\, we will try and find a host for you in Augsburg. Let us know with your registration whether you need a host. \n\n\n\nRegistration\n\n\n\nUse this link to sign up until the 27th November 23:59 o’clock 😊 \nAny Questions left?! Contact us via: christmas.augsburg@gmail.com \n\n\n\n\n\n\n\n\n\n\n\n\n\n 
URL:https://egea.eu/event/2022/10/26/alumni-x-mas-event/
CATEGORIES:Fun events
ATTACH;FMTTYPE=image/jpeg:https://egea.eu/wp-content/uploads/2022/10/Entwurf_Logo.jpeg
END:VEVENT
BEGIN:VEVENT
DTSTART;TZID=Europe/Prague:20221208T080000
DTEND;TZID=Europe/Prague:20221211T170000
DTSTAMP:20260426T054352
CREATED:20221123T092239Z
LAST-MODIFIED:20221123T092241Z
UID:8399-1670486400-1670778000@egea.eu
SUMMARY:EGEA Warsaw Welcomes EGEA Ljubljana
DESCRIPTION:EGEA Warsaw welcomes EGEA Ljubljana
URL:https://egea.eu/event/2022/11/23/egea-warsaw-welcomes-egea-ljubljana/
ATTACH;FMTTYPE=image/jpeg:https://egea.eu/wp-content/uploads/2022/01/AdobeStock_84384911-scaled.jpeg
END:VEVENT
BEGIN:VEVENT
DTSTART;TZID=Europe/Prague:20221209T080000
DTEND;TZID=Europe/Prague:20221211T170000
DTSTAMP:20260426T054352
CREATED:20221206T202059Z
LAST-MODIFIED:20221206T202101Z
UID:8693-1670572800-1670778000@egea.eu
SUMMARY:EGEA Zürich welcomes EGEA Osnabrück
DESCRIPTION:
URL:https://egea.eu/event/2022/12/06/egea-zurich-welcomes-egea-osnabruck/
END:VEVENT
BEGIN:VEVENT
DTSTART;TZID=Europe/Prague:20221213T200000
DTEND;TZID=Europe/Prague:20221213T233000
DTSTAMP:20260426T054352
CREATED:20231128T133745Z
LAST-MODIFIED:20231128T133746Z
UID:14309-1670961600-1670974200@egea.eu
SUMMARY:Triple christmas exchange 2022
DESCRIPTION:After a break because of Covid\, the traditional triple Christmas market exchange between the Belgian entities is back! This year\, join us in Brussels!
URL:https://egea.eu/event/2023/11/28/triple-christmas-exchange-2022/
LOCATION:Christmas market Brussels
END:VEVENT
BEGIN:VEVENT
DTSTART;TZID=Europe/Prague:20221215T080000
DTEND;TZID=Europe/Prague:20221218T170000
DTSTAMP:20260426T054352
CREATED:20221123T091614Z
LAST-MODIFIED:20221126T012839Z
UID:8395-1671091200-1671382800@egea.eu
SUMMARY:EGEA Warsaw welcomes EGEA Marburg
DESCRIPTION:EGEA Warsaw welcomes EGEA Marburg – exchange
URL:https://egea.eu/event/2022/11/23/egea-warsaw-welcomes-egea-marburg/
ATTACH;FMTTYPE=image/jpeg:https://egea.eu/wp-content/uploads/2022/11/AdobeStock_475552331-scaled.jpeg
END:VEVENT
BEGIN:VEVENT
DTSTART;TZID=Europe/Prague:20221215T160000
DTEND;TZID=Europe/Prague:20221218T140000
DTSTAMP:20260426T054352
CREATED:20221008T101341Z
LAST-MODIFIED:20221108T112509Z
UID:7543-1671120000-1671372000@egea.eu
SUMMARY:Christmas market weekend vol. 4.0
DESCRIPTION:You will be hosted by our lovely entity members\, who will provide you with a place to sleep and breakfast. They’ll also lead you to our meeting points. The use of public transport is included in the participant fee. \n\n\n\n\n\nProgramm | Travel Info | What to bring \n\n\n\n\n\n\n\nMore details will follow soon. The final program may vary.  \n\n\n\nProgramm | Travel Info | What to bring \n\n\n\nDepending on your arrival\, you are welcome to come to Jena on Thursday evening or Friday morning. Jena is very easy to reach by train. By the way\, regional tickets are also valid for the IC trains on the route Erfurt – Weimar – Jena – Gera. Note that there are two major train stations in Jena “Jena West” and “Jena Paradies”\, which are not directly connected. Depending on the direction you are coming from\, you’ll arrive at one of them. There is also a bus station directly in the center with various Flixbus connections. If you arrive by car\, we will individually discuss in advance where you can park it over the weekend.  \n\n\n\nProgramm | Travel Info | What to bring \n\n\n\n\nFFP2 mask for public transport\n\n\n\nWarm and weatherproof clothing and shoes\n\n\n\nSome typical Christmas treats from your region to share at the Christmas cultural fair\n\n\n\nAn ugly Christmas sweater\n\n\n\nAn item you no longer need for the “White elephant gift exchange” – the crazier the better\n\n\n\nChristmas spirit and good vibes\n\n\n\n\n\n\nRegistration opens soon \n\n\n\nFor more information follow our EGEA Jena Instagram page @egeajena
URL:https://egea.eu/event/2022/10/08/christmas-market-weekend-vol-4-01/
LOCATION:Jena\, Jena\, Germany
CATEGORIES:Cultural events
ORGANIZER;CN="EGEA Jena":MAILTO:jena@egea.eu
END:VEVENT
BEGIN:VEVENT
DTSTART;TZID=Europe/Vienna:20221216T200000
DTEND;TZID=Europe/Vienna:20221219T090000
DTSTAMP:20260426T054352
CREATED:20221210T112649Z
LAST-MODIFIED:20221210T112650Z
UID:8768-1671220800-1671440400@egea.eu
SUMMARY:EGEA Graz welcomes EGEA Belgrade
DESCRIPTION:EGEA Graz welcomes Belgrade to Austria for the first part of their exchange. The event will take place from 16th to 19th of December 2022.
URL:https://egea.eu/event/2022/12/10/egea-graz-welcomes-egea-belgrade/
ATTACH;FMTTYPE=image/webp:https://egea.eu/wp-content/uploads/2022/12/graz_advent.webp
END:VEVENT
BEGIN:VEVENT
DTSTART;TZID=Europe/Prague:20221217T000000
DTEND;TZID=Europe/Prague:20221217T235959
DTSTAMP:20260426T054352
CREATED:20221214T122559Z
LAST-MODIFIED:20221214T122603Z
UID:8970-1671235200-1671321599@egea.eu
SUMMARY:Exchange Würzburg - Bamberg
DESCRIPTION:Bamberg welcomes Würzburg for an excursion to the Staffelberg in Bad Staffelstein and a cheerful evening.
URL:https://egea.eu/event/2022/12/14/exchange-wurzburg-bamberg/
END:VEVENT
BEGIN:VEVENT
DTSTART;TZID=Europe/Prague:20221228T173000
DTEND;TZID=Europe/Prague:20221228T190000
DTSTAMP:20260426T054352
CREATED:20230224T002204Z
LAST-MODIFIED:20230224T002427Z
UID:10020-1672248600-1672254000@egea.eu
SUMMARY:Secret Santa
DESCRIPTION:For the first time our entity decided that we should organize Secret Santa event. That way our newbies and oldies will get an opportunity to get to know eachother better. \n\n\n\nORGA TEAM: \n\n\n\n\n\n\n\nLOCATION:
URL:https://egea.eu/event/2023/02/24/secret-santa/
LOCATION:University of Belgrade Faculty of Geography\, Studentski trg 3\, Belgrade\, 11000\, Serbia
END:VEVENT
END:VCALENDAR